BEGIN:VCALENDAR
VERSION:2.0
PRODID:-//Bay Conservation Alliance - ECPv4.9.2//NONSGML v1.0//EN
CALSCALE:GREGORIAN
METHOD:PUBLISH
X-WR-CALNAME:Bay Conservation Alliance
X-ORIGINAL-URL:https://www.bayconservation.nz
X-WR-CALDESC:Events for Bay Conservation Alliance
BEGIN:VEVENT
DTSTART;TZID=Pacific/Auckland:20191109T083000
DTEND;TZID=Pacific/Auckland:20191109T120000
DTSTAMP:20191221T123558
CREATED:20190213T112439Z
LAST-MODIFIED:20190605T133021Z
UID:7339-1573288200-1573300800@www.bayconservation.nz
SUMMARY:Volunteer Sat
DESCRIPTION:We will be placing Diphacinone across the 500 ha of the AFP. \n
URL:https://www.bayconservation.nz/event/volunteer-sat-3/
END:VEVENT
END:VCALENDAR